BEGIN:VCALENDAR
VERSION:2.0
PRODID:-//AFSEP - ECPv6.15.17//NONSGML v1.0//EN
CALSCALE:GREGORIAN
METHOD:PUBLISH
X-WR-CALNAME:AFSEP
X-ORIGINAL-URL:https://afsep.fr
X-WR-CALDESC:Évènements pour AFSEP
REFRESH-INTERVAL;VALUE=DURATION:PT1H
X-Robots-Tag:noindex
X-PUBLISHED-TTL:PT1H
BEGIN:VTIMEZONE
TZID:Europe/Paris
BEGIN:DAYLIGHT
TZOFFSETFROM:+0100
TZOFFSETTO:+0200
TZNAME:CEST
DTSTART:20250330T010000
END:DAYLIGHT
BEGIN:STANDARD
TZOFFSETFROM:+0200
TZOFFSETTO:+0100
TZNAME:CET
DTSTART:20251026T010000
END:STANDARD
BEGIN:DAYLIGHT
TZOFFSETFROM:+0100
TZOFFSETTO:+0200
TZNAME:CEST
DTSTART:20260329T010000
END:DAYLIGHT
BEGIN:STANDARD
TZOFFSETFROM:+0200
TZOFFSETTO:+0100
TZNAME:CET
DTSTART:20261025T010000
END:STANDARD
BEGIN:DAYLIGHT
TZOFFSETFROM:+0100
TZOFFSETTO:+0200
TZNAME:CEST
DTSTART:20270328T010000
END:DAYLIGHT
BEGIN:STANDARD
TZOFFSETFROM:+0200
TZOFFSETTO:+0100
TZNAME:CET
DTSTART:20271031T010000
END:STANDARD
END:VTIMEZONE
BEGIN:VEVENT
DTSTART;TZID=Europe/Paris:20260422T133000
DTEND;TZID=Europe/Paris:20260422T160000
DTSTAMP:20260422T022416
CREATED:20260106T105004Z
LAST-MODIFIED:20260106T105004Z
UID:5034-1776864600-1776873600@afsep.fr
SUMMARY:Permanences d’informations SEP - 62
DESCRIPTION:
URL:https://afsep.fr/evenements/permanences-dinformations-sep-62-13/
LOCATION:Centre Jacques Calvé – Fondation Hopale\, 2 Rue du Grand Hôtel\,\, Berck\, 62600
ATTACH;FMTTYPE=image/jpeg:https://afsep.fr/wp-content/uploads/2026/01/photo-evenement-afsep-permanence-scaled.jpg
END:VEVENT
BEGIN:VEVENT
DTSTART;TZID=Europe/Paris:20260424T143000
DTEND;TZID=Europe/Paris:20260424T153000
DTSTAMP:20260422T022416
CREATED:20260202T141734Z
LAST-MODIFIED:20260202T141734Z
UID:5299-1777041000-1777044600@afsep.fr
SUMMARY:Sport Adapté - 62
DESCRIPTION:
URL:https://afsep.fr/evenements/sport-adapte-62-6/
LOCATION:« Asso gardons les Cap » – Centre de Ressources des Associations\, 19 Rue de Wicardenne\, Boulogne-sur-Mer\, 62200
ATTACH;FMTTYPE=image/jpeg:https://afsep.fr/wp-content/uploads/2025/12/photo-evenement-apa.jpg
END:VEVENT
BEGIN:VEVENT
DTSTART;TZID=Europe/Paris:20260424T150000
DTEND;TZID=Europe/Paris:20260424T170000
DTSTAMP:20260422T022416
CREATED:20260106T084108Z
LAST-MODIFIED:20260106T084108Z
UID:4972-1777042800-1777050000@afsep.fr
SUMMARY:Sophrologie - 69
DESCRIPTION:
URL:https://afsep.fr/evenements/sophrologie-69-4/
LOCATION:Centre Social de Gerland\, 1 Rue Jacques Monod\, Lyon\, 69007
ATTACH;FMTTYPE=image/jpeg:https://afsep.fr/wp-content/uploads/2025/12/photo-evenement-sophrologie.jpg
END:VEVENT
BEGIN:VEVENT
DTSTART;TZID=Europe/Paris:20260425T100000
DTEND;TZID=Europe/Paris:20260425T120000
DTSTAMP:20260422T022416
CREATED:20260202T135632Z
LAST-MODIFIED:20260209T151151Z
UID:5265-1777111200-1777118400@afsep.fr
SUMMARY:Alimentation et Bien-être - 32
DESCRIPTION:
URL:https://afsep.fr/evenements/alimentation-et-bien-etre-32-3/
LOCATION:Salle du club du 3ème âge à Mauvezin\, 15\, Promenade du Plan\, Mauvezin\, 32120\, France
ATTACH;FMTTYPE=image/jpeg:https://afsep.fr/wp-content/uploads/2025/12/photo-evenement-alimentation.jpg
END:VEVENT
BEGIN:VEVENT
DTSTART;TZID=Europe/Paris:20260427T180000
DTEND;TZID=Europe/Paris:20260427T190000
DTSTAMP:20260422T022416
CREATED:20260105T052043Z
LAST-MODIFIED:20260105T052043Z
UID:4875-1777312800-1777316400@afsep.fr
SUMMARY:Sophrologie - 34
DESCRIPTION:Cette activité en ligne est réservée aux adhérents avec l'option activités.\n        Pour accéder à la salle interactive\, devenez membre !\n       \n      \n        Je deviens adhérent(e) avec l'option activités\n      \n      \n        J'ai l'option\, me connecter
URL:https://afsep.fr/evenements/sophrologie-34-9/
ATTACH;FMTTYPE=image/webp:https://afsep.fr/wp-content/uploads/2025/12/photo-activite-sophro.webp
END:VEVENT
BEGIN:VEVENT
DTSTART;TZID=Europe/Paris:20260427T180000
DTEND;TZID=Europe/Paris:20260427T200000
DTSTAMP:20260422T022416
CREATED:20260212T125043Z
LAST-MODIFIED:20260212T125043Z
UID:5434-1777312800-1777320000@afsep.fr
SUMMARY:Groupe de parole - 57
DESCRIPTION:
URL:https://afsep.fr/evenements/groupe-de-parole-57-11/
LOCATION:Salle Polyvalente LA MAXE\, 2 Rue de la Charmille\, La Maxe\, 57140\, France
ATTACH;FMTTYPE=image/jpeg:https://afsep.fr/wp-content/uploads/2025/12/photo-evenement-groupe-de-parole.jpg
END:VEVENT
BEGIN:VEVENT
DTSTART;TZID=Europe/Paris:20260429T173000
DTEND;TZID=Europe/Paris:20260429T193000
DTSTAMP:20260422T022416
CREATED:20260106T093249Z
LAST-MODIFIED:20260106T093249Z
UID:4996-1777483800-1777491000@afsep.fr
SUMMARY:Sophrologie - 23
DESCRIPTION:
URL:https://afsep.fr/evenements/sophrologie-23-9/
LOCATION:Mairie de Chard\, 11 Route du cher\, Chard\, 23700\, France
ATTACH;FMTTYPE=image/jpeg:https://afsep.fr/wp-content/uploads/2025/12/photo-evenement-sophrologie.jpg
END:VEVENT
BEGIN:VEVENT
DTSTART;TZID=Europe/Paris:20260430T143000
DTEND;TZID=Europe/Paris:20260430T163000
DTSTAMP:20260422T022416
CREATED:20251218T095700Z
LAST-MODIFIED:20251218T095700Z
UID:4694-1777559400-1777566600@afsep.fr
SUMMARY:Groupe de parole - 35
DESCRIPTION:
URL:https://afsep.fr/evenements/groupe-de-parole-35-4/
LOCATION:Pôle Saint-Hélier\, 54 Rue Saint-Hélier\, Rennes\, 35000\, France
ATTACH;FMTTYPE=image/jpeg:https://afsep.fr/wp-content/uploads/2025/12/photo-evenement-groupe-de-parole.jpg
END:VEVENT
BEGIN:VEVENT
DTSTART;TZID=Europe/Paris:20260504T160000
DTEND;TZID=Europe/Paris:20260504T170000
DTSTAMP:20260422T022417
CREATED:20260202T140544Z
LAST-MODIFIED:20260202T140544Z
UID:5273-1777910400-1777914000@afsep.fr
SUMMARY:Équithérapie - 35
DESCRIPTION:
URL:https://afsep.fr/evenements/equitherapie-35-3/
LOCATION:Centre équestre – Le Bois Billy\, 1 Le Bois Billy\, Guichen\, 35580\, France
ATTACH;FMTTYPE=image/jpeg:https://afsep.fr/wp-content/uploads/2025/12/photo-evenement-equitherapie.jpg
END:VEVENT
BEGIN:VEVENT
DTSTART;TZID=Europe/Paris:20260505T140000
DTEND;TZID=Europe/Paris:20260505T150000
DTSTAMP:20260422T022417
CREATED:20260204T083523Z
LAST-MODIFIED:20260204T083523Z
UID:5379-1777989600-1777993200@afsep.fr
SUMMARY:Équithérapie - 31
DESCRIPTION:
URL:https://afsep.fr/evenements/equitherapie-31-5/
LOCATION:Les Ecuries d’Emportier\, 32 Chem. de Perruquet\, Saint-Jory\, 31790\, France
ATTACH;FMTTYPE=image/jpeg:https://afsep.fr/wp-content/uploads/2025/12/photo-evenement-equitherapie.jpg
END:VEVENT
BEGIN:VEVENT
DTSTART;TZID=Europe/Paris:20260505T143000
DTEND;TZID=Europe/Paris:20260505T170000
DTSTAMP:20260422T022417
CREATED:20260216T082618Z
LAST-MODIFIED:20260216T082618Z
UID:5459-1777991400-1778000400@afsep.fr
SUMMARY:Groupe de parole - 62
DESCRIPTION:
URL:https://afsep.fr/evenements/groupe-de-parole-62-21/
LOCATION:Espace Jean-Claude Desfachelle\, salle des associations) – 2 rue des Cévennes\, St Laurent-Blangy\, 62223\, France
ATTACH;FMTTYPE=image/jpeg:https://afsep.fr/wp-content/uploads/2025/12/photo-evenement-groupe-de-parole.jpg
END:VEVENT
BEGIN:VEVENT
DTSTART;TZID=Europe/Paris:20260506T140000
DTEND;TZID=Europe/Paris:20260506T140000
DTSTAMP:20260422T022417
CREATED:20260107T144351Z
LAST-MODIFIED:20260108T094542Z
UID:5082-1778076000-1778076000@afsep.fr
SUMMARY:Sophrologie - 33
DESCRIPTION:Participez à l’Atelier Sophrologie de votre département \n\n    \n      \n        Cette activité en ligne est réservée aux adhérents avec l'option activités.\n        Pour accéder à la salle interactive\, devenez membre !\n       \n      \n        Je deviens adhérent(e) avec l'option activités\n      \n      \n        J'ai l'option\, me connecter
URL:https://afsep.fr/evenements/sophrologie-33-5/
ATTACH;FMTTYPE=image/webp:https://afsep.fr/wp-content/uploads/2025/12/photo-activite-sophro.webp
END:VEVENT
BEGIN:VEVENT
DTSTART;TZID=Europe/Paris:20260506T143000
DTEND;TZID=Europe/Paris:20260506T170000
DTSTAMP:20260422T022417
CREATED:20260106T081417Z
LAST-MODIFIED:20260106T081417Z
UID:4922-1778077800-1778086800@afsep.fr
SUMMARY:Groupe de parole - 62
DESCRIPTION:
URL:https://afsep.fr/evenements/groupe-de-parole-62-5/
LOCATION:CRAB – Boulogne sur Mer\, 19 rue de Wicardenne\, Boulogne sur Mer\, 62200\, France
ATTACH;FMTTYPE=image/jpeg:https://afsep.fr/wp-content/uploads/2025/12/photo-evenement-groupe-de-parole.jpg
END:VEVENT
BEGIN:VEVENT
DTSTART;TZID=Europe/Paris:20260507T103000
DTEND;TZID=Europe/Paris:20260507T103000
DTSTAMP:20260422T022417
CREATED:20251203T104857Z
LAST-MODIFIED:20251203T104857Z
UID:4575-1778149800-1778149800@afsep.fr
SUMMARY:Équithérapie - 19
DESCRIPTION:
URL:https://afsep.fr/evenements/equitherapie-19-5/
LOCATION:Centre équestre – Domaine d’Ayras Équithérapie\, 1175 avenue d'Ayras\, COSNAC\, 19360\, France
ATTACH;FMTTYPE=image/jpeg:https://afsep.fr/wp-content/uploads/2025/12/photo-evenement-equitherapie.jpg
END:VEVENT
BEGIN:VEVENT
DTSTART;TZID=Europe/Paris:20260507T133000
DTEND;TZID=Europe/Paris:20260507T143000
DTSTAMP:20260422T022417
CREATED:20260413T085847Z
LAST-MODIFIED:20260413T085847Z
UID:5719-1778160600-1778164200@afsep.fr
SUMMARY:Sophrologie - 02
DESCRIPTION:Participez à l’Atelier Sophrologie de votre département \n\n    \n      \n        Cette activité en ligne est réservée aux adhérents avec l'option activités.\n        Pour accéder à la salle interactive\, devenez membre !\n       \n      \n        Je deviens adhérent(e) avec l'option activités\n      \n      \n        J'ai l'option\, me connecter
URL:https://afsep.fr/evenements/sophrologie-02-6/
ATTACH;FMTTYPE=image/webp:https://afsep.fr/wp-content/uploads/2025/12/photo-activite-sophro.webp
END:VEVENT
BEGIN:VEVENT
DTSTART;TZID=Europe/Paris:20260507T140000
DTEND;TZID=Europe/Paris:20260507T140000
DTSTAMP:20260422T022417
CREATED:20260319T150951Z
LAST-MODIFIED:20260323T080611Z
UID:5617-1778162400-1778162400@afsep.fr
SUMMARY:Rencontre - 77
DESCRIPTION:Retrouvez les activités de notre association\, l’AFSEP\, placées sous le signe du bien-être\, du partage et de la bonne humeur. \n\nSophrologie avec Caroline\nAlimentation adaptée avec Véronique\nUn temps pour échanger\nNotre traditionnel goûter où chacun apporte à ses choix petits ou gros gâteaux\, boissons.
URL:https://afsep.fr/evenements/rencontre-77-3/
LOCATION:Maison de quartier le Soleil\, 46 Rue Georges Brassens\, Combs-la-Ville\, 77380\, France
ATTACH;FMTTYPE=image/jpeg:https://afsep.fr/wp-content/uploads/2026/01/photo-evenement-afsep-permanence-scaled.jpg
END:VEVENT
BEGIN:VEVENT
DTSTART;TZID=Europe/Paris:20260507T140000
DTEND;TZID=Europe/Paris:20260507T163000
DTSTAMP:20260422T022417
CREATED:20260106T083323Z
LAST-MODIFIED:20260106T083323Z
UID:4962-1778162400-1778171400@afsep.fr
SUMMARY:Groupe de parole - 69
DESCRIPTION:
URL:https://afsep.fr/evenements/groupe-de-parole-69-5/
LOCATION:Centre Social de Gerland\, 1 Rue Jacques Monod\, Lyon\, 69007
ATTACH;FMTTYPE=image/jpeg:https://afsep.fr/wp-content/uploads/2025/12/photo-evenement-groupe-de-parole.jpg
END:VEVENT
BEGIN:VEVENT
DTSTART;TZID=Europe/Paris:20260507T150000
DTEND;TZID=Europe/Paris:20260507T170000
DTSTAMP:20260422T022417
CREATED:20251212T102236Z
LAST-MODIFIED:20251212T102236Z
UID:4634-1778166000-1778173200@afsep.fr
SUMMARY:Groupe de parole - 60
DESCRIPTION:
URL:https://afsep.fr/evenements/groupe-de-parole-60-7/
LOCATION:Association Trans doc – Margny-lès-Compiègne\, 17 rue de la Prairie\, Margny-lès-Compiègne\, 60280\, France
ATTACH;FMTTYPE=image/jpeg:https://afsep.fr/wp-content/uploads/2025/12/photo-evenement-groupe-de-parole.jpg
END:VEVENT
BEGIN:VEVENT
DTSTART;TZID=Europe/Paris:20260507T170000
DTEND;TZID=Europe/Paris:20260507T190000
DTSTAMP:20260422T022417
CREATED:20251212T102317Z
LAST-MODIFIED:20251212T102317Z
UID:4636-1778173200-1778180400@afsep.fr
SUMMARY:Groupe de parole - 60
DESCRIPTION:
URL:https://afsep.fr/evenements/groupe-de-parole-60-8/
LOCATION:Association Trans doc – Margny-lès-Compiègne\, 17 rue de la Prairie\, Margny-lès-Compiègne\, 60280\, France
ATTACH;FMTTYPE=image/jpeg:https://afsep.fr/wp-content/uploads/2025/12/photo-evenement-groupe-de-parole.jpg
END:VEVENT
BEGIN:VEVENT
DTSTART;TZID=Europe/Paris:20260507T180000
DTEND;TZID=Europe/Paris:20260507T200000
DTSTAMP:20260422T022417
CREATED:20251218T125935Z
LAST-MODIFIED:20251218T125935Z
UID:4733-1778176800-1778184000@afsep.fr
SUMMARY:Groupe de parole - 57
DESCRIPTION:
URL:https://afsep.fr/evenements/groupe-de-parole-57-5/
LOCATION:Salle de l’Emaillerie – MANOM\, Rue du Luxembourg\, MANOM\, 57100
ATTACH;FMTTYPE=image/jpeg:https://afsep.fr/wp-content/uploads/2025/12/photo-evenement-groupe-de-parole.jpg
END:VEVENT
BEGIN:VEVENT
DTSTART;TZID=Europe/Paris:20260511T180000
DTEND;TZID=Europe/Paris:20260511T190000
DTSTAMP:20260422T022417
CREATED:20260105T052057Z
LAST-MODIFIED:20260105T052057Z
UID:4876-1778522400-1778526000@afsep.fr
SUMMARY:Sophrologie - 34
DESCRIPTION:Cette activité en ligne est réservée aux adhérents avec l'option activités.\n        Pour accéder à la salle interactive\, devenez membre !\n       \n      \n        Je deviens adhérent(e) avec l'option activités\n      \n      \n        J'ai l'option\, me connecter
URL:https://afsep.fr/evenements/sophrologie-34-10/
ATTACH;FMTTYPE=image/webp:https://afsep.fr/wp-content/uploads/2025/12/photo-activite-sophro.webp
END:VEVENT
BEGIN:VEVENT
DTSTART;TZID=Europe/Paris:20260513T130000
DTEND;TZID=Europe/Paris:20260513T160000
DTSTAMP:20260422T022417
CREATED:20260106T104100Z
LAST-MODIFIED:20260106T104100Z
UID:5015-1778677200-1778688000@afsep.fr
SUMMARY:Permanences d’informations SEP - 62
DESCRIPTION:
URL:https://afsep.fr/evenements/permanences-dinformations-sep-62-4/
LOCATION:Maison des usagers du Centre Hospitalier de Béthune Beuvry\, 27 rue Delbecque\, Béthune\, 62408\, France
ATTACH;FMTTYPE=image/jpeg:https://afsep.fr/wp-content/uploads/2026/01/photo-evenement-afsep-permanence-scaled.jpg
END:VEVENT
BEGIN:VEVENT
DTSTART;TZID=Europe/Paris:20260513T153000
DTEND;TZID=Europe/Paris:20260513T173000
DTSTAMP:20260422T022417
CREATED:20260202T152652Z
LAST-MODIFIED:20260202T152652Z
UID:5332-1778686200-1778693400@afsep.fr
SUMMARY:Sophrologie - 76
DESCRIPTION:
URL:https://afsep.fr/evenements/sophrologie-76-4/
LOCATION:Cabinet de Sophrologie – LE HAVRE\, 13. rue Béranger\, LE HAVRE\, 76600\, France
ATTACH;FMTTYPE=image/webp:https://afsep.fr/wp-content/uploads/2025/12/photo-activite-sophro.webp
END:VEVENT
BEGIN:VEVENT
DTSTART;TZID=Europe/Paris:20260513T173000
DTEND;TZID=Europe/Paris:20260513T193000
DTSTAMP:20260422T022417
CREATED:20260106T093648Z
LAST-MODIFIED:20260106T093648Z
UID:4998-1778693400-1778700600@afsep.fr
SUMMARY:Sophrologie - 23
DESCRIPTION:
URL:https://afsep.fr/evenements/sophrologie-23-10/
LOCATION:Mairie de Chard\, 11 Route du cher\, Chard\, 23700\, France
ATTACH;FMTTYPE=image/jpeg:https://afsep.fr/wp-content/uploads/2025/12/photo-evenement-sophrologie.jpg
END:VEVENT
BEGIN:VEVENT
DTSTART;TZID=Europe/Paris:20260515T100000
DTEND;TZID=Europe/Paris:20260515T120000
DTSTAMP:20260422T022417
CREATED:20260106T155627Z
LAST-MODIFIED:20260108T094953Z
UID:5057-1778839200-1778846400@afsep.fr
SUMMARY:Sophrologie - 06
DESCRIPTION:Participez à l’Atelier Sophrologie de votre département \n\n    \n      \n        Cette activité en ligne est réservée aux adhérents avec l'option activités.\n        Pour accéder à la salle interactive\, devenez membre !\n       \n      \n        Je deviens adhérent(e) avec l'option activités\n      \n      \n        J'ai l'option\, me connecter
URL:https://afsep.fr/evenements/sophrologie-06-5/
ATTACH;FMTTYPE=image/webp:https://afsep.fr/wp-content/uploads/2025/12/photo-activite-sophro.webp
END:VEVENT
BEGIN:VEVENT
DTSTART;TZID=Europe/Paris:20260518T103000
DTEND;TZID=Europe/Paris:20260518T113000
DTSTAMP:20260422T022417
CREATED:20260202T133212Z
LAST-MODIFIED:20260202T133212Z
UID:5224-1779100200-1779103800@afsep.fr
SUMMARY:Sophrologie - 28
DESCRIPTION:Participez à l’Atelier Sophrologie de votre département \n\n    \n      \n        Cette activité en ligne est réservée aux adhérents avec l'option activités.\n        Pour accéder à la salle interactive\, devenez membre !\n       \n      \n        Je deviens adhérent(e) avec l'option activités\n      \n      \n        J'ai l'option\, me connecter\n      \n    \n  \n  \n 
URL:https://afsep.fr/evenements/sophrologie-28-4/
ATTACH;FMTTYPE=image/jpeg:https://afsep.fr/wp-content/uploads/2025/12/photo-evenement-sophrologie.jpg
END:VEVENT
BEGIN:VEVENT
DTSTART;TZID=Europe/Paris:20260518T180000
DTEND;TZID=Europe/Paris:20260518T200000
DTSTAMP:20260422T022417
CREATED:20260212T125111Z
LAST-MODIFIED:20260212T125111Z
UID:5436-1779127200-1779134400@afsep.fr
SUMMARY:Groupe de parole - 57
DESCRIPTION:
URL:https://afsep.fr/evenements/groupe-de-parole-57-12/
LOCATION:Salle Polyvalente LA MAXE\, 2 Rue de la Charmille\, La Maxe\, 57140\, France
ATTACH;FMTTYPE=image/jpeg:https://afsep.fr/wp-content/uploads/2025/12/photo-evenement-groupe-de-parole.jpg
END:VEVENT
BEGIN:VEVENT
DTSTART;TZID=Europe/Paris:20260519T140000
DTEND;TZID=Europe/Paris:20260519T150000
DTSTAMP:20260422T022417
CREATED:20260204T083551Z
LAST-MODIFIED:20260204T083551Z
UID:5381-1779199200-1779202800@afsep.fr
SUMMARY:Équithérapie - 31
DESCRIPTION:
URL:https://afsep.fr/evenements/equitherapie-31-6/
LOCATION:Les Ecuries d’Emportier\, 32 Chem. de Perruquet\, Saint-Jory\, 31790\, France
ATTACH;FMTTYPE=image/jpeg:https://afsep.fr/wp-content/uploads/2025/12/photo-evenement-equitherapie.jpg
END:VEVENT
BEGIN:VEVENT
DTSTART;TZID=Europe/Paris:20260520T140000
DTEND;TZID=Europe/Paris:20260520T150000
DTSTAMP:20260422T022417
CREATED:20260209T145858Z
LAST-MODIFIED:20260209T145858Z
UID:5402-1779285600-1779289200@afsep.fr
SUMMARY:Sophrologie - 28
DESCRIPTION:  \n  \n 
URL:https://afsep.fr/evenements/sophrologie-28-24/
LOCATION:CRF Beaurouvre\, 4 rue Claude Bernard\, LE COUDRAY\, 28630\, France
ATTACH;FMTTYPE=image/jpeg:https://afsep.fr/wp-content/uploads/2025/12/photo-evenement-sophrologie.jpg
END:VEVENT
BEGIN:VEVENT
DTSTART;TZID=Europe/Paris:20260521T133000
DTEND;TZID=Europe/Paris:20260521T143000
DTSTAMP:20260422T022417
CREATED:20260413T085927Z
LAST-MODIFIED:20260413T085927Z
UID:5721-1779370200-1779373800@afsep.fr
SUMMARY:Sophrologie - 02
DESCRIPTION:Participez à l’Atelier Sophrologie de votre département \n\n    \n      \n        Cette activité en ligne est réservée aux adhérents avec l'option activités.\n        Pour accéder à la salle interactive\, devenez membre !\n       \n      \n        Je deviens adhérent(e) avec l'option activités\n      \n      \n        J'ai l'option\, me connecter
URL:https://afsep.fr/evenements/sophrologie-02-7/
ATTACH;FMTTYPE=image/webp:https://afsep.fr/wp-content/uploads/2025/12/photo-activite-sophro.webp
END:VEVENT
END:VCALENDAR